BEGIN:VCALENDAR
VERSION:2.0
PRODID:-//ChamberMaster//Event Calendar 2.0//EN
METHOD:PUBLISH
X-PUBLISHED-TTL:P3D
REFRESH-INTERVAL:P3D
CALSCALE:GREGORIAN
BEGIN:VEVENT
DTSTART:20191121T123000Z
DTEND:20191121T140000Z
X-MICROSOFT-CDO-ALLDAYEVENT:FALSE
SUMMARY:Pressing Issues in FX Markets
DESCRIPTION:Guest Speakers\n\nMr. Daragh Maher\, HSBC's Head of FX Strategy US\, New York \n\nMr. Steven Major\, HSBC Global  Head of Fixed Income Research \n\n\n\nJoin us in a conversation with industry experts Daragh Maher and Steven Major.\n\nThey will help us navigate through the pressing issues in the FX markets.\n\n	     Stress Testing the USD\n	     Where next for the GBP?\n	     Yields - how low can they go?
X-ALT-DESC;FMTTYPE=text/html:<br />\n<strong><u>Guest Speakers</u></strong><br />\n<em>Mr. Daragh Maher\, HSBC&#39\;s Head of FX Strategy US\, New York&nbsp\;<br />\nMr. Steven Major\, HSBC Global&nbsp\; Head of Fixed Income Research&nbsp\;</em><br />\n<br />\nJoin us in a conversation with industry experts Daragh Maher and Steven Major.<br />\nThey will help us navigate through the pressing issues in the FX markets.\n<ul>\n	<li>&nbsp\;&nbsp\;&nbsp\;&nbsp\; Stress Testing the USD</li>\n	<li>&nbsp\; &nbsp\; &nbsp\;Where next for the GBP?</li>\n	<li>&nbsp\; &nbsp\; &nbsp\;Yields - how low can they go?</li>\n</ul>\n
LOCATION:HSBC Harbourview Room 37 Front Street\, Hamilton
UID:e.3397.1577
SEQUENCE:3
DTSTAMP:20260420T092142Z
URL:http://members.bermudachamber.bm/events/details/pressing-issues-in-fx-markets-1577
END:VEVENT

END:VCALENDAR
