BEGIN:VCALENDAR
VERSION:2.0
PRODID:-//ChamberMaster//Event Calendar 2.0//EN
METHOD:PUBLISH
X-PUBLISHED-TTL:P3D
REFRESH-INTERVAL:P3D
CALSCALE:GREGORIAN
BEGIN:VEVENT
DTSTART:20191128T161500Z
DTEND:20191128T171500Z
X-MICROSOFT-CDO-ALLDAYEVENT:FALSE
SUMMARY:Tourism/West End Division Meeting
DESCRIPTION:
X-ALT-DESC;FMTTYPE=text/html:
LOCATION:Chamber of Commerce's Boardroom
UID:e.3397.158
SEQUENCE:3
DTSTAMP:20260420T092230Z
URL:http://members.bermudachamber.bm/events/details/tourism-divisional-meeting-11-28-2019-158
END:VEVENT

END:VCALENDAR
