BEGIN:VCALENDAR
VERSION:2.0
PRODID:-//ChamberMaster//Event Calendar 2.0//EN
METHOD:PUBLISH
X-PUBLISHED-TTL:P3D
REFRESH-INTERVAL:P3D
CALSCALE:GREGORIAN
BEGIN:VEVENT
DTSTART:20240415T140000Z
DTEND:20240415T150000Z
X-MICROSOFT-CDO-ALLDAYEVENT:FALSE
SUMMARY:Personal Care Division
DESCRIPTION:Personal Care Division
X-ALT-DESC;FMTTYPE=text/html:Personal Care Division
LOCATION:Via Zoom Meetings
UID:e.3397.1832
SEQUENCE:3
DTSTAMP:20260422T084151Z
URL:https://members.bermudachamber.bm/events/details/personal-care-division-04-15-2024-1832
END:VEVENT

END:VCALENDAR
