BEGIN:VCALENDAR
VERSION:2.0
PRODID:-//ChamberMaster//Event Calendar 2.0//EN
METHOD:PUBLISH
X-PUBLISHED-TTL:P3D
REFRESH-INTERVAL:P3D
CALSCALE:GREGORIAN
BEGIN:VEVENT
DTSTART:20211026T123000Z
DTEND:20211026T133000Z
X-MICROSOFT-CDO-ALLDAYEVENT:FALSE
SUMMARY:Security Division Meeting
DESCRIPTION:Security Division Meeting
X-ALT-DESC;FMTTYPE=text/html:Security Division Meeting&nbsp\;&nbsp\;&nbsp\;&nbsp\;
LOCATION:Chamber's Boardroom
UID:e.3397.1517
SEQUENCE:3
DTSTAMP:20260421T075312Z
URL:https://members.bermudachamber.bm/events/details/security-division-meeting-10-26-2021-1517
END:VEVENT

END:VCALENDAR
